BEGIN:VCALENDAR
VERSION:2.0
PRODID:-//Maison de la Culture de Tahiti - Te Fare Tauhiti Nui - ECPv4.9.10//NONSGML v1.0//EN
CALSCALE:GREGORIAN
METHOD:PUBLISH
X-WR-CALNAME:Maison de la Culture de Tahiti - Te Fare Tauhiti Nui
X-ORIGINAL-URL:https://www.maisondelaculture.pf
X-WR-CALDESC:Évènements pour Maison de la Culture de Tahiti - Te Fare Tauhiti Nui
BEGIN:VTIMEZONE
TZID:Pacific/Tahiti
BEGIN:STANDARD
TZOFFSETFROM:-1000
TZOFFSETTO:-1000
TZNAME:-10
DTSTART:20180101T000000
END:STANDARD
END:VTIMEZONE
BEGIN:VEVENT
DTSTART;TZID=Pacific/Tahiti:20180329T193000
DTEND;TZID=Pacific/Tahiti:20180329T193000
DTSTAMP:20191123T055143
CREATED:20180313T030037Z
LAST-MODIFIED:20180313T032159Z
UID:8023-1522351800-1522351800@www.maisondelaculture.pf
SUMMARY:5ème représentation du concert Tahiti 1917
DESCRIPTION:Les Pionniers Oubliès de la Musique \nLe concert documentaire « Tahiti 1917 “ fait sa 5éme représentation le Jeudi 29 Mars à 19h30 au Petit Théâtre de la Maison de la Culture.\nCe spectacle que depuis Novembre de 2017 se presente à « guichét fermé » \, rend hommage aux Pionniers Oubliés de la Musique : « Augie Goupil” (1910- 1943) et George « Tautu Archer” (1906 – 1976)\, tous les deux compositeurs locaux des airs traditionnels des bringues tahitiennes. Cette histoire trés peu connue est raconté\, avec une sélection de photos et des films d’epoque\, avec l’accompagnement d’une orchestre en “live” et les voix de Patrick Noble et Reia Poroi. Les billets sont en vente aux magasins Carrefour et au Petit Théâtre le jour du concert à partir de 17h00. \n\n
URL:https://www.maisondelaculture.pf/evenement/5eme-representation-du-concert-tahiti-1917/
LOCATION:Salle Muriāvai\, 646 Boulevard Pomare IV\, Papeete\, Polynésie Française
CATEGORIES:Spectacles, Concerts, Théatre
ATTACH;FMTTYPE=image/jpeg:https://www.maisondelaculture.pf/cms/wp-content/uploads/2018/03/Concert-Tahiti-1917.jpg
ORGANIZER;CN="Maison%20de%20la%20Culture":MAILTO:communication@maisondelaculture.pf
END:VEVENT
END:VCALENDAR