BEGIN:VCALENDAR
VERSION:2.0
PRODID:-//Maison de la Culture de Tahiti - Te Fare Tauhiti Nui - ECPv4.9.10//NONSGML v1.0//EN
CALSCALE:GREGORIAN
METHOD:PUBLISH
X-WR-CALNAME:Maison de la Culture de Tahiti - Te Fare Tauhiti Nui
X-ORIGINAL-URL:https://www.maisondelaculture.pf
X-WR-CALDESC:Évènements pour Maison de la Culture de Tahiti - Te Fare Tauhiti Nui
BEGIN:VTIMEZONE
TZID:Pacific/Tahiti
BEGIN:STANDARD
TZOFFSETFROM:-1000
TZOFFSETTO:-1000
TZNAME:-10
DTSTART:20180101T000000
END:STANDARD
END:VTIMEZONE
BEGIN:VEVENT
DTSTART;TZID=Pacific/Tahiti:20180217T193000
DTEND;TZID=Pacific/Tahiti:20180217T193000
DTSTAMP:20191123T065252
CREATED:20180115T234505Z
LAST-MODIFIED:20180201T174839Z
UID:7632-1518895800-1518895800@www.maisondelaculture.pf
SUMMARY:4ème représentation Tahiti 1917
DESCRIPTION:Tahiti 1917 c’est ce concert qui fait revivre les musiques des années 20 et qui est quasiment complet à chaque représentation. Voici donc le 4ème concert peut-être la dernière chance d’écouter des artistes comme Patrick Noble et Reia Poroi redonnant vie à ces mélodies oubliées ! Dépêchez-vous de récupérer vos places pour voir ce spectacle qui a déjà conquis plus d’une centaine de spectateurs… \nTahiti et ses îles vibrent au rythme des vagues que berce l’océan\, au souffle du vent et de la pluie qui les caressent et à la lumière des astres du ciel qui les protègent. Cette vibration\, les Polynésiens l’expriment dans les mélodies qui seront chantées ce soir-là\, toujours joyeuses même celles qui racontent de tristes évènements… \nEn cherchant les origines de ces chansons\, il est difficile de savoir si elles ont été adaptées à partir de mélodies anglaises\, françaises\, américaines ou latino-américaines. Les airs eux-mêmes ont subi des modifications de rythme transformant une douce romance mélancolique en un fox trot très dynamique. Certains\, prenant le modèle pour la copie\, étaient persuadés que c’était les chansons européennes qui imitaient les chants polynésiens.\nLa musique tahitienne ne contient pas\, de par sa nature\, d’ingrédients du jazz ou du swing\, ou de blues comme cela est le cas dans la musique hawaiienne. Cependant\, quelques musiciens tahitiens qui sont allés à Hawaii et en Californie sont admirés pour leur talent à Honolulu comme à Hollywood et ont ainsi absorbé ces influences au contact de musiciens Hawaiiens. Il est fort probable que c’est de cette manière-là que la guitare Hawaiienne\, par exemple\, a été assimilée au folklore tahitien à cette époque… \n
URL:https://www.maisondelaculture.pf/evenement/4eme-contre-tahiti-1917/
LOCATION:Petit Théâtre\, 646 Boulevard Pomare IV\, Papeete\, Polynésie Française
CATEGORIES:Newsletter,Spectacles, Concerts, Théatre
ATTACH;FMTTYPE=image/jpeg:https://www.maisondelaculture.pf/cms/wp-content/uploads/2018/01/4ème-représentation-Tahiti-1917.jpg
END:VEVENT
END:VCALENDAR