BEGIN:VCALENDAR
VERSION:2.0
PRODID:-//Maison de la Culture de Tahiti - Te Fare Tauhiti Nui - ECPv4.9.10//NONSGML v1.0//EN
CALSCALE:GREGORIAN
METHOD:PUBLISH
X-WR-CALNAME:Maison de la Culture de Tahiti - Te Fare Tauhiti Nui
X-ORIGINAL-URL:https://www.maisondelaculture.pf
X-WR-CALDESC:Évènements pour Maison de la Culture de Tahiti - Te Fare Tauhiti Nui
BEGIN:VTIMEZONE
TZID:Pacific/Tahiti
BEGIN:STANDARD
TZOFFSETFROM:-1000
TZOFFSETTO:-1000
TZNAME:-10
DTSTART:20190101T000000
END:STANDARD
END:VTIMEZONE
BEGIN:VEVENT
DTSTART;TZID=Pacific/Tahiti:20191127T190000
DTEND;TZID=Pacific/Tahiti:20191207T220000
DTSTAMP:20191117T112443
CREATED:20191101T030807Z
LAST-MODIFIED:20191101T030807Z
UID:11445-1574881200-1575756000@www.maisondelaculture.pf
SUMMARY:38 formations au 15ème Hura Tapairu !
DESCRIPTION:Voici déjà la quinzième édition de ce concours qui rassemble son lot de passionnés tant au niveau du Pays qu’à l’international. 38 groupes sont en compétition et vous donnent rendez-vous du 27 novembre au 07 décembre\, tandis que les groupes internationaux seront sur scène les 28 et 29 novembre pour le « Hura Tapairu Manihini ». Tous rivaliseront d’inventivité lors de neuf soirées de concours\, et vous feront vibrer au rythme de leurs créations musicales et de leurs chorégraphies… \nL’objectif de ce concours\, s’il reste avant tout le plaisir\, n’en est pas moins l’excellence. Un concours en deux mots donc pour deux intentions : hura\, pour la tradition\, et tapairu\, pour la grâce et l’originalité. Un duo qui résume à lui seul l’émotion qui se dégage des spectacles de ce concours de danse\, en conservant ce qui a fait son succès depuis 14 ans. \nLa dernière soirée\, qui aura lieu le samedi 07 décembre\, est une finale au suspens haletant pour départager les finalistes retenus la veille. Ainsi\, tout gagnant en ‘ōtea et/ou ‘aparima se retrouve à cette soirée et concourt pour le podium Hura Tapairu\, tandis que les 6 meilleurs Mehura\, élus la veille\, sont de nouveau sur scène pour remporter l’un des quatre prix de la catégorie. \n\n\nInfos pratiques : \nConcours de danse traditionnelle : 15ème Hura Tapairu & 2ème Hura Tapairu Manihini \nTFTN /ART / Tahiti Tourisme \nConcours des groupes internationaux les 28 et 29 novembre – 19h00 \nConcours des groupes locaux du 07 novembre au 06 décembre – 19h00 \nTarif unique : 1 500 Fcfp \n\nFinales de Mehura et de Tapairu samedi 07 décembre– 16h00 \nTarif unique : 2 500 Fcfp \n\nBillets en vente sur place et en ligne sur www.huratapairu.com à partir du mercredi 06 novembre \nExposition artisanale les soirs de spectacle dans le hall de 17h00 à 20h00 \nRenseignements au 40 544 544 \nGrand Théâtre et hall \n
URL:https://www.maisondelaculture.pf/evenement/38-formations-au-15eme-hura-tapairu/
LOCATION:Grand Théâtre\, 646 Boulevard Pomare IV\, Papeete\, 98713\, Polynésie Française
CATEGORIES:Newsletter,Spectacles, Concerts, Théatre
ATTACH;FMTTYPE=image/jpeg:https://www.maisondelaculture.pf/cms/wp-content/uploads/2019/10/Manohiva-mehura-5P0B2712.jpg
ORGANIZER;CN="Maison%20de%20la%20Culture":MAILTO:communication@maisondelaculture.pf
END:VEVENT
END:VCALENDAR