BEGIN:VCALENDAR
VERSION:2.0
PRODID:-//Maison de la Culture de Tahiti - Te Fare Tauhiti Nui - ECPv4.9.10//NONSGML v1.0//EN
CALSCALE:GREGORIAN
METHOD:PUBLISH
X-WR-CALNAME:Maison de la Culture de Tahiti - Te Fare Tauhiti Nui
X-ORIGINAL-URL:https://www.maisondelaculture.pf
X-WR-CALDESC:Évènements pour Maison de la Culture de Tahiti - Te Fare Tauhiti Nui
BEGIN:VTIMEZONE
TZID:Pacific/Tahiti
BEGIN:STANDARD
TZOFFSETFROM:-1000
TZOFFSETTO:-1000
TZNAME:-10
DTSTART:20180101T000000
END:STANDARD
END:VTIMEZONE
BEGIN:VEVENT
DTSTART;TZID=Pacific/Tahiti:20180420T193000
DTEND;TZID=Pacific/Tahiti:20180420T193000
DTSTAMP:20191123T053620
CREATED:20180404T010647Z
LAST-MODIFIED:20180404T010647Z
UID:8144-1524252600-1524252600@www.maisondelaculture.pf
SUMMARY:1er Festival International de Jazz à Tahiti
DESCRIPTION:Les fans de jazz seront servis ce mois-ci avec ce 1er festival International de Jazz organisé par le Conservatoire Artistique de Polynésie française. Pour l’occasion des stars de Jazz seront spécialement invitées pour l’événement\, découvrez sans plus tarder le programme… \n\n1er Festival International de Jazz\nLE DEPARTEMENT JAZZ – Créé il y a quatre ans en même temps que le département des musiques actuelles*\, le département Jazz du Conservatoire a pour but de développer ce style de musique et ses enseignements. Dirigé par Frédéric ROSSONI\, ce département d’appuie sur une formation prestigieuse\, le BIG BAND\, composé d’élèves et de musiciens de haut niveau qui se produisent en concert chaque année.\nLE FESTIVAL : UNE GRANDE PREMIERE – L’idée d’un festival international est née du souhait de la direction du CAPF de populariser le JAZZ auprès du grand public. Pour ce faire\, et en accord avec plusieurs partenaires importants – la Maison de la culture\, Air Tahiti Nui\, Magic City – l’idée du lancement d’un festival international a vu le jour. Son principe : partager la musique avec les scolaires (Collège de Taravao) et le grand Public (Masterclasse)\, mais également avec les mélomanes et les groupes de Jazz du Fenua (Concert à Ciel ouvert sur le Paepae du CAPF) et grande soirée de Gala (Grand théâtre). Il va de soi que le festival sera pérennisé.\nDEUX INVITES PRESTIGIEUX – Afin de permettre à cette discipline de rayonner\, le CAPF a fait appel à deux grandes personnalités : la diva et chanteuse américaine Avis HARRELL\, le pianiste vénézuélien Otmaro RUIZ. Invités prestigieux du concert au grand théâtre de la maison de la culture (vendredi 20 avril\, 19:30)\, ces deux personnalités seront les points d’attraction du festival\, en jouant avec les musiciens du Fenua et bien évidemment\, en tant qu’invités au concert final du grand théâtre. Notons également la présence sur scène du crooner canadien Jean CROTEAU et du chanteur Ricardo.\nUN PROGRAMME DYNAMIQUE – Ce premier festival se tien durant cinq jours\, du lundi 16 au vendredi 10 mars 2018. Il débutera par une série de répétitions du Big Band du CAPF avec Mme Avis HARRELL (lundi 16 et mardi 17 avril\, 17:30\,g rand auditorium du CAPF)\, puis par une masterclasse de piano jazz avec Otmaro Ruiz (mercredi 17 avril\, 17:30\, grand auditorium du CAPF. Le même jour\, 18:30 : concert de Jazz à ciel ouvert avec les formations du Fenua (entrée libre). Le jeudi 19 avril\, 9:00 : rencontre avec les scolaires et les classes CHAD du Collège de Taravao. Et enfin\, le vendredi 20 avril\, 19:30 : concert au grand théâtre de la maison de la culture. \nDemandez le programme !\nOrganisé par le Conservatoire Artistique de Polynésie française\, en partenariat avec Air Tahiti Nui\, Magic city et la Maison de la Culture\, le festival aura lieu du lundi 16 au vendredi 20 avril inclus.\nLe mercredi 18 avril\, le pianiste Otmaro Ruiz donnera une master class dans le grand auditorium du conservatoire\, à 17h30. L’entrée est libre.\nCette master class sera suivie d’un concert sur le paepae du conservatoire\, à 18h30. Plusieurs groupes locaux se produiront et Otmaro Ruiz se joindra à eux pour leur dernier morceau : Coconut jazz\, The Q\, et le Rossoni band. L’entrée est libre.\nLe vendredi 20 avril\, à 19h30\, un concert au Grand Théâtre de la Maison de la Culture viendra clore le festival. Le Big band se produira avec la chanteuse Avis Harrell. L’entrée est à 2 500 Fcfp pour les adultes\, 1 500 Fcfp pour les moins de 12 ans. \n\nDes invités de marques pour cette première édition\nOtmaro Ruiz\, un pianiste vénézuélien nommé aux Grammy\nNé au Venezuela en 1964\, Otmaro Ruiz a commencé le piano à l’âge de huit ans. Il a aussi pris des cours de guitare\, d’harmonie\, d’histoire et d’esthétique de la musique. S’intéressant aussi au dessin et au théâtre\, il a étudié la biologie à l’université Simon Bolivar\, tout en continuant à jouer au piano. C’est en 1982 qu’il décroche son premier contrat en tant que musicien\, dans un groupe pop. Trois ans plus tard\, il décide de se consacrer uniquement à la musique. Il se met alors à faire des enregistrements avec des musiciens locaux et étrangers\, et à travailler dans un studio en tant que compositeur et arrangeur de jingles. 1989 est une année charnière : Otmaro Ruiz s’installe à Los Angeles\, en Californie\, où il obtient une maîtrise en interprétation jazz au California Institute of the Arts. Le pianiste vénézuélien a collaboré avec de nombreux musiciens de renom\, dont Arturo Sandoval\, John McLaughlin et Jon Anderson.\nEn 2012\, Otmaro Ruiz s’est vu décerner par l’université américaine Shepherd un doctorat honorifique en musique. Son travail a aussi été célébré en 2016 : il a été nommé aux Grammy Awards dans la catégorie meilleur arrangement pour sa version de la chanson Girl from Ipanema. \nAvis Harrell\, la « reine de la polyvalence »\nLa diva américaine est née dans une famille de musiciens\, à Washington. C’est auprès de sa mère et avec ses sœurs qu’Avis Harrell a appris à chanter dès son plus jeune âge. Sa voix puissante a été remarquée dès l’école primaire\, et avant de terminer le lycée\, elle avait déjà rejoint un groupe baptisé The Blue Mystics. Elle décide alors de s’installer à Los Angeles et est en quelque sorte pris sous son aile par Stevie Wonder\, qui lui fait rencontrer les meilleurs coachs vocaux de la ville. Ses premiers succès\, elle les obtient avec ses sœurs au sein de leur groupe The Fawns. Elles enregistrent des morceaux et se produisent dans de nombreuses salles de la côte Est. Avis Harrell est aussi connue pour avoir travaillé avec Ray Charles et Wayne Newton pendant plusieurs années. Elle a ensuite entamé une carrière solo en gérant ses projets de A à Z – elle écrit\, chante\, joue\, et produit elle-même l’album The Best of Avis Harrell. Surnommée la « reine de la polyvalence »\, elle est capable de chanter de la pop\, du R&B et du jazz. Pour l’anecdote\, avant d’emménager à Los Angeles\, la show-woman avait décroché le titre de Miss America Washington DC. \n\nLE PROGRAMME COMPLET DU FESTIVAL DE JAZZ\nMercredi 18 avril 2018\n– 17:30 : Masterclasse de Piano Jazz avec Otmaro RUIZ (grand audi du CAPF\, entrée libre 100 places).\n– 18:30 : concert de Jazz à ciel ouvert du le Paepae du CAPF (entrée libre) avec les groupes :\n1) Coconut Jazz : 4 morceaux + 1 avec Otmaro Ruiz (environ 20 minutes)\nchanteuse REVA Juventin\nbatterie : Joseph Lai\nbasse : Teiki Lang\npiano : Bruno Demougeot \n2) The Q : 4 morceaux + 1 avec Otmaro Ruiz (environ 20 minutes)\nsax : Nilo Gima\ncontrebasse : Abel Dumont\nguitare : Jérôme Ferlat\nbatterie : Ian\npiano : Bruno Demougeot \n3) Rossoni Brothers : 2 morceaux + 2 avec AVIS + 1 avec Otmaro (environ 20 minutes)\nsax: Fabrice Cima\ntrombone : jérôme Descamps\nbasse : Abel Dumont\nbatterie :Steph Rossoni\nclavier : Fred Rossoni\nguest singer : Avis Harrell (si elle est présente) \n4) Clôture avec Otmaro Ruiz en solo\, ou en duo avec Fabrice Cima (environ 15 à 20 minutes) \nVendredi 20 avril 2018\, 19H30 – Concert du Big Band du CAPF au grand théâtre avec Avis HARRELL et Otmaro RUIZ. Invités : Jean Croteau et Ricardo.\nTarifs : 2 500 Fcfp adultes / 1 500 Fcfp pour les enfants de – 12 ans \n
URL:https://www.maisondelaculture.pf/evenement/1er-festival-international-de-jazz-a-tahiti/
LOCATION:Grand Théâtre\, 646 Boulevard Pomare IV\, Papeete\, 98713\, Polynésie Française
CATEGORIES:Newsletter,Spectacles, Concerts, Théatre
ATTACH;FMTTYPE=image/jpeg:https://www.maisondelaculture.pf/cms/wp-content/uploads/2018/04/Concert-1er-Festival-International-de-jazz.jpg
ORGANIZER;CN="Maison%20de%20la%20Culture":MAILTO:communication@maisondelaculture.pf
END:VEVENT
END:VCALENDAR