BEGIN:VCALENDAR
VERSION:2.0
PRODID:-//Maison de la Culture de Tahiti - Te Fare Tauhiti Nui - ECPv4.9.10//NONSGML v1.0//EN
CALSCALE:GREGORIAN
METHOD:PUBLISH
X-WR-CALNAME:Maison de la Culture de Tahiti - Te Fare Tauhiti Nui
X-ORIGINAL-URL:https://www.maisondelaculture.pf
X-WR-CALDESC:Évènements pour Maison de la Culture de Tahiti - Te Fare Tauhiti Nui
BEGIN:VTIMEZONE
TZID:Pacific/Tahiti
BEGIN:STANDARD
TZOFFSETFROM:-1000
TZOFFSETTO:-1000
TZNAME:-10
DTSTART:20190101T000000
END:STANDARD
END:VTIMEZONE
BEGIN:VEVENT
DTSTART;VALUE=DATE:20190628
DTEND;VALUE=DATE:20190629
DTSTAMP:20191122T141311
CREATED:20190607T230933Z
LAST-MODIFIED:20190615T015248Z
UID:10551-1561680000-1561766399@www.maisondelaculture.pf
SUMMARY:1er festival CINEMATAMUA Projections de films anciens et une exposition de photos d’antan à la Maison de la Culture
DESCRIPTION:Te Fare Tauhiti Nui – Maison de la Culture a le plaisir de vous présenter la première édition du Festival Cinematamua\, le vendredi 28 juin\, de 8h00 à 22h00 dans différents espaces de l’établissement. L’événement est gratuit et libre d’accès. \n  \nLes projections de Cinematamua sont nées en 2004\, à l’initiative de Heremoana MAAMAATUAIAHUTAPU alors Directeur de la Maison de la Culture et Eric BOURGEOIS\, Directeur de l’ICA ainsi que Marc LOUVAT de l’ICA (l’Institut de la Communication audiovisuelle). L’événement permettait de diffuser chaque mois des films et documentaires portant sur la Polynésie des années 1930 à 1980. \n  \nLe festival Cinematamua a pour objectif de rassembler des films anciens des années 30 à la fin des années 70\,  et de donner accès à ces diffusions à un large public sur une journée entière. Les recherches menées par Marc LOUVAT permettront notamment de découvrir un film allemand de 1957 complètement inédit\, “Blauen Jungs” (Rarahu\, fleur des îles)\, de Wolfgang SCHLEIF. La salle de projection accueillera des productions d’ORTF\, FR3 Tahiti ou RFO\, anciennes appellations de Polynésie la 1ère. \n  \nProgrammées de 8h00 à 22h avec des diffusions au Grand et au Petit Théâtre\, les projections sont également complétées par une exposition de photos de tournages des années 50 et 60 en noir et blanc\, issues du fonds Alain MOTTET en salle Muriāvai. L’exposition ouvrira en début de semaine et une conférence sera donnée le jeudi 27 juin en ouverture de l’évènement. \n  \nElles seront exposées dès le début de la semaine et par une conférence (donnée par Marc LOUVAT\, auteur d’une Petite histoire du cinéma en Polynésie française – Cinematamua paru aux éditions L’Harmattan). \n  \n  \nInformations pratiques :  \nFestival Cinematamua \nProjections de films anciens (de 1931 à 1988) \nADCP / SPAA / TFTN \nVendredi 28 juin 2019\, de 8h00 à 22h00 \nGrand Théâtre : longs métrages de fiction \nPetit Théâtre : documentaires et courts métrages de fiction \nDu 25 au 28 juin 2019 : de 8h00 à 17h00 (de 8h00 à 22h00 le vendredi 28 juin) \nSalle Muriāvai : exposition de photos anciennes \nJeudi 27 juin 2019 : \nConférence de Marc LOUVAT \nEntrée libre \nRenseignements : 40 544 544 / Page Facebook : Maison de la Culture de Tahiti \n
URL:https://www.maisondelaculture.pf/evenement/1er-festival-cinematamua-projections-de-films-ancien-et-une-exposition-de-photos-dantan-a-la-maison-de-la-culture/
LOCATION:Boulevard Pomare\, Papeete\, 98713\, Polynésie Française
CATEGORIES:Festivals, Salons
ATTACH;FMTTYPE=image/jpeg:https://www.maisondelaculture.pf/cms/wp-content/uploads/2019/06/cinematamua-affiche-light.jpg
ORGANIZER;CN="Maison%20de%20la%20Culture":MAILTO:communication@maisondelaculture.pf
END:VEVENT
END:VCALENDAR