BEGIN:VCALENDAR
VERSION:2.0
PRODID:-//Maison de la Culture de Tahiti - Te Fare Tauhiti Nui - ECPv4.9.10//NONSGML v1.0//EN
CALSCALE:GREGORIAN
METHOD:PUBLISH
X-WR-CALNAME:Maison de la Culture de Tahiti - Te Fare Tauhiti Nui
X-ORIGINAL-URL:https://www.maisondelaculture.pf
X-WR-CALDESC:Évènements pour Maison de la Culture de Tahiti - Te Fare Tauhiti Nui
BEGIN:VTIMEZONE
TZID:Pacific/Tahiti
BEGIN:STANDARD
TZOFFSETFROM:-1000
TZOFFSETTO:-1000
TZNAME:-10
DTSTART:20170101T000000
END:STANDARD
END:VTIMEZONE
BEGIN:VEVENT
DTSTART;TZID=Pacific/Tahiti:20171116T080000
DTEND;TZID=Pacific/Tahiti:20171119T080000
DTSTAMP:20191126T104548
CREATED:20170831T230509Z
LAST-MODIFIED:20171110T184915Z
UID:6921-1510819200-1511078400@www.maisondelaculture.pf
SUMMARY:50 nuances de vɛʁ au 17ème Salon du Livre\, du 16 au 19 novembre
DESCRIPTION:  \nRendez-vous cette année dans les jardins de la Maison de la Culture du 16 au 19 novembre 2017 pour découvrir tous les sujets possible et imaginables sur le thème « vɛʁ » ! \nLe Salon du livre chaque année donne à voir\, à lire\, à entendre\, des invités de qualités\, polynésiens et venus d’ailleurs\, et fait vivre la littérature dans une ambiance chaleureuse le temps de quelques jours. \nDepuis 2002\, l’AETI organise le salon « Lire en Polynésie ». Ce salon\, qui a débuté assez modestement\, est aujourd’hui un événement culturel régional important. La venue de grands auteurs du Paciﬁque\, les fortes délégations de la Nouvelle Calédonie\, une programmation de plus en plus riche\, en ont fait un événement grand public et une manifestation majeure au sein du calendrier culturel tahitien. Grâce à des partenaires médias forts et ﬁdèles\, le salon « Lire en Polynésie » 2016 a pu accueillir plus de 7000 visiteurs auquel il faut rajouter plus de 1 500 scolaires. Des animations littéraires\, des conférences\, la présentation des nouveautés des éditeurs polynésiens et des auteurs\, la présence d’invités étrangers prestigieux\, répondent à une demande croissante de la population de Tahiti. \nVous saurez tout sur le « vɛʁ » \nLe thème retenu cette année ouvre avec originalité la porte à toute une panoplie d’interprétations. Les sujets relatifs au thème « vɛʁ » se croisent et se répondent dans la littérature polynésienne\, dans la littérature francophone et internationale\, tel un terreau fécond source de création\, de culture et d’expression. Un terme à la phonétique simple mais aux nombreux sens\, homonymes\, synonymes\, antonymes\, etc. Et qui fait référence à un panel sans fin de sujets d’ouverture et d’échange. \nVer\, verre\, vert\, vers\, vair… Toutes les déclinaisons sont possibles avec ce terme à la phonétique si abstraite\, impalpable et dont les sens se déclinent dans toutes les directions\, correspondent à maintes sujets… Préposition ou nom\, adjectif — singulier ou pluriel — ou substantif\, voire locution\, le son « vɛʁ » désigne tantôt une direction\, un état\, tantôt un animal\, un fruit ou un objet. Ou encore\, quelques mots composant une strophe d’un poème. \n• Interviews des invités (auteurs\, illustrateurs et intervenants divers) et présentation de leurs ouvrages\n• Programmation au jour le jour : présentations d’ouvrages\, rencontres\, conférences\, tables rondes\, séances de dédicaces\, etc.\n• Ateliers d’écriture\, d’illustration\, de créations manuelles et artistiques pour tous\n• Projections du FIFO\n• Présentation des exposants (éditeurs\, libraires\, imprimeurs\, bibliothèques)\n• Nouveautés de la rentrée littéraire polynésienne \nVoir tout le programme du salon \n
URL:https://www.maisondelaculture.pf/evenement/17eme-salon-du-livre/
LOCATION:Espaces de la Maison de la Culture\, Papeete\, Polynésie Française
CATEGORIES:Festivals, Salons,Newsletter
ATTACH;FMTTYPE=image/jpeg:https://www.maisondelaculture.pf/cms/wp-content/uploads/2017/10/Salon-du-livre-2017-ok.jpg
ORGANIZER;CN="Maison%20de%20la%20Culture":MAILTO:communication@maisondelaculture.pf
END:VEVENT
END:VCALENDAR