BEGIN:VCALENDAR
VERSION:2.0
PRODID:-//Maison de la Culture de Tahiti - Te Fare Tauhiti Nui - ECPv4.9.10//NONSGML v1.0//EN
CALSCALE:GREGORIAN
METHOD:PUBLISH
X-WR-CALNAME:Maison de la Culture de Tahiti - Te Fare Tauhiti Nui
X-ORIGINAL-URL:https://www.maisondelaculture.pf
X-WR-CALDESC:Évènements pour Maison de la Culture de Tahiti - Te Fare Tauhiti Nui
BEGIN:VTIMEZONE
TZID:Pacific/Tahiti
BEGIN:STANDARD
TZOFFSETFROM:-1000
TZOFFSETTO:-1000
TZNAME:-10
DTSTART:20190101T000000
END:STANDARD
END:VTIMEZONE
BEGIN:VEVENT
DTSTART;TZID=Pacific/Tahiti:20190819T080000
DTEND;TZID=Pacific/Tahiti:20191001T120000
DTSTAMP:20191122T123354
CREATED:20190919T205709Z
LAST-MODIFIED:20191008T182843Z
UID:11168-1566201600-1569931200@www.maisondelaculture.pf
SUMMARY:15ème Hura Tapairu - INSCRIPTIONS
DESCRIPTION:15ème Hura Tapairu : il est temps de s’inscrire ! \nEn fin d’année se déroulera la 15ème édition du Hura Tapairu\, un concours très attendu qui n’a cessé de prendre de l’ampleur depuis sa création : de 20 à 30 formations s’inscrivent chaque année\, avec des spectacles d’une rare beauté\, et des soirées régulièrement à guichet fermé. \nQuinze ans après sa création\, le Hura Tapairu a pris une réelle importance dans le parcours des groupes de danse du Pays. L’événement est également devenu en quelques années un rendez-vous incontournable du calendrier culturel polynésien\, des touristes comme des journalistes\, sans oublier les pratiquants étrangers venus admirer le spectacle. \nTous les groupes locaux\, écoles et associations désireux de faire partie de la compétition sont invités à s’inscrire dès à présent sur le site www.huratapairu.com \n\nInfos pratiques :\nGrand Théâtre  \nInscriptions pour les groupes locaux uniquement du 19 août 2019 au 21 octobre 2019 à midi. \nConcours du 27 novembre au 7 décembre 2019 \nRenseignements au 40 544 544 / www.huratapairu.com  / Page Facebook : Maison de la Culture de Tahiti \n
URL:https://www.maisondelaculture.pf/evenement/15eme-hura-tapairu-il-est-temps-de-sinscrire/
LOCATION:Boulevard Pomare\, Papeete\, 98713\, Polynésie Française
ATTACH;FMTTYPE=image/png:https://www.maisondelaculture.pf/cms/wp-content/uploads/2019/09/Capture-d’écran-2019-09-19-à-10.55.52.png
ORGANIZER;CN="Maison%20de%20la%20Culture":MAILTO:communication@maisondelaculture.pf
END:VEVENT
END:VCALENDAR