BEGIN:VCALENDAR
VERSION:2.0
PRODID:-//Maison de la Culture de Tahiti - Te Fare Tauhiti Nui - ECPv4.9.10//NONSGML v1.0//EN
CALSCALE:GREGORIAN
METHOD:PUBLISH
X-WR-CALNAME:Maison de la Culture de Tahiti - Te Fare Tauhiti Nui
X-ORIGINAL-URL:https://www.maisondelaculture.pf
X-WR-CALDESC:Évènements pour Maison de la Culture de Tahiti - Te Fare Tauhiti Nui
BEGIN:VTIMEZONE
TZID:Pacific/Tahiti
BEGIN:STANDARD
TZOFFSETFROM:-1000
TZOFFSETTO:-1000
TZNAME:-10
DTSTART:20170101T000000
END:STANDARD
END:VTIMEZONE
BEGIN:VEVENT
DTSTART;TZID=Pacific/Tahiti:20171122T180000
DTEND;TZID=Pacific/Tahiti:20171125T180000
DTSTAMP:20191126T104028
CREATED:20170831T231140Z
LAST-MODIFIED:20171110T184149Z
UID:6927-1511373600-1511632800@www.maisondelaculture.pf
SUMMARY:13ème Hura Tapairu
DESCRIPTION:Le Hura Tapairu\, plus de 10 ans après sa naissance\, continue à faire des adeptes et à mobiliser les artistes du Pays. Des 8 groupes inscrits à la première édition aux 38 formations qui ont répondu à l’appel cette année\, l’événement donne à la danse traditionnelle une place à la mesure de sa beauté et de sa créativité !\nCréativité mais aussi excellence\, les groupes mettent chaque année la barre très haut pour un public et un jury ravis\, confirmant ainsi que ce concept sur mesure leur convient. Il s’agissait en effet avec ce concours de donner une scène aux petites formations qui ne souhaitent ou ne peuvent pas se produire sur To’ata dans le cadre du Heiva i Tahiti notamment. Pari tenu\, avec ce concours qui joue un rôle de tremplin\, mais qui est aussi devenu au fil du temps but en soi. L’événement mobilise chaque année un millier d’artistes au bas mot et incite à la formation des jeunes : auteurs\, orero\, musiciens\, de nombreux artistes se révèlent au public à cette occasion. \n13ème édition : du 22 novembre au 02 décembre 2017 \nCette nouvelle édition regroupe 38 formations\, qui s’affronteront amicalement au Grand Théâtre pour un cahier des prix de 2 900 000 Fcfp. Comme l’année dernière parmi les concours facultatifs nous retrouverons : les duos ‘aparima ‘äpipiti et ‘öte’a ‘äpipiti\, qui remplacent les concours individuels ‘ori tahito vahine et tane. Ces concours facultatifs permettent aux groupes de redoubler de créativité. \nLes groupes de l’édition 2017 : \nCette nouvelle édition regroupe 33 groupes répartis en 38 formations\, qui s’affronteront amicalement au Grand Théâtre du mercredi 22 novembre au samedi 02 décembre. Ces groupes sont inscrits dans les catégories suivantes : \n\nTapairu\, comprenant ‘ōte’a et aparima : 8 formations\nMehura\, une catégorie dont le succès n’est plus à démontrer puisque ce sont 33 formations qui seront en concours.\n‘Aparima ‘āpipiti (concours de danse optionnel en duo) : 10 duos\n‘Ōte’a ‘āpipiti (concours de danse optionnel en duo) : 6 duos\nPahu Nui (concours d’orchestre optionnel) : 6 orchestres\n\nLa dernière soirée\, comme de coutume\, est une finale au suspense haletant pour départager les finalistes retenus la veille. Ainsi\, tout gagnant en ‘ōtea et/ou ’aparima se retrouve à cette finale pour le prix Hura Tapairu\, tandis que les 6 meilleurs Mehura s’affrontent dans une finale avec quatre prix à la clé. \nExpositions et animations artisanales tous les soirs \nLe Service de l’Artisanat Traditionnel sera également présent au Hura Tapairu avec treize artisans qui animeront le Hall du Grand Théâtre en exposant leurs œuvres. Les objets liés à la danse y sont à l’honneur\, avec toutes sortes de parures : bracelets\, raz-de-cou\, boucles d’oreilles\, mais aussi des robes\, épingles à cheveux\, ceintures… Les artisans proposent également aussi des couronnes de fleurs fraîches\, des kumu hei et autres po’ara\, pour rester dans l’ambiance tout au long des soirées. Coquillages\, fibres et fleurs… toutes les matières sont prétextes à la création. \nPetite nouveauté du côté des stands artisanaux des ateliers payants seront mis en place pour le public de 15h00 à 17h00 dans le hall du Grand Théâtre. \nProgramme de ce 13ème Hura Tapairu \n
URL:https://www.maisondelaculture.pf/evenement/13eme-hura-tapairu/
LOCATION:Grand Théâtre\, 646 Boulevard Pomare IV\, Papeete\, 98713\, Polynésie Française
CATEGORIES:Newsletter,Spectacles, Concerts, Théatre
ATTACH;FMTTYPE=image/jpeg:https://www.maisondelaculture.pf/cms/wp-content/uploads/2017/10/13ème-HURA-TAPAIRU.jpg
ORGANIZER;CN="Maison%20de%20la%20Culture":MAILTO:communication@maisondelaculture.pf
END:VEVENT
END:VCALENDAR